Workbook

Sheet 総括表
A2: 総 括 表
A3: =歩掛調書!A3 -> 交野市農業用ため池ハザードマップ作成業務
A5: 工種 | B5: 細 別 | C5: 名 称 | D5: 単位 | E5: 数量 | H5: 摘要
A6: 直接人件費
B8: =歩掛調書!A6 -> 1. 計画準備 | D8: =歩掛調書!B6 -> 式
F9: =歩掛調書!C6 -> 1
B10: =歩掛調書!A7 -> 2. 資料収集及び整理 | D10: =歩掛調書!B7 -> 箇所
F11: =歩掛調書!C7 -> 1
B12: =歩掛調書!A8 -> 3. 現地調査 | D12: =歩掛調書!B8 -> 箇所
F13: =歩掛調書!C8 -> 1
B14: =歩掛調書!A9 -> 4. 浸水想定区域の検討 | D14: 式
F15: 1
B16: =歩掛調書!A10 -> 4.1 氾濫原モデル作成 | D16: =歩掛調書!B10 -> 箇所
F17: =歩掛調書!C10 -> 1
B18: =歩掛調書!A11 -> 4.2 破堤モデル作成 | D18: =歩掛調書!B11 -> 箇所
F19: =歩掛調書!C11 -> 1
B20: =歩掛調書!A12 -> 4.3 氾濫シミュレーション | D20: =歩掛調書!B12 -> 箇所
F21: =歩掛調書!C12 -> 1
B22: =歩掛調書!A13 -> 4.4 浸水想定区域図作成 | D22: =歩掛調書!B13 -> 箇所
F23: =歩掛調書!C13 -> 1
B24: =歩掛調書!A14 -> 5. ハザードマップ原案作成 | D24: =歩掛調書!B14 -> 箇所
F25: =歩掛調書!C14 -> 1
B26: =歩掛調書!A15 -> 6. 住民説明会運営支援 | D26: 地区
F27: =歩掛調書!C15 -> 1
B28: =歩掛調書!A16 -> 7. 報告書作成 | D28: 式
F29: =歩掛調書!C16 -> 1
B30: =歩掛調書!A17 -> 8. 打ち合わせ協議 | D30: =歩掛調書!B17 -> 式
F31: =歩掛調書!C17 -> 1
A32: 直接経費
B34: 電子成果品作成 | D34: 式
F35: 1
B36: ハザードマップ印刷費 | D36: 枚
B38: 旅費交通費 | D38: 式
F39: 1
A40: 直接原価
B42: その他原価 | C42: 直接人件費×α/(1－α) | D42: 式
F43: 1
A44: 業務原価 | D44: 式
F45: 1
B46: 一般管理費等 | C46: 業務原価×β/(1－β) | D46: 式
...

Sheet 内訳書
P1: 第 | Q1: 1 | R1: 号表
A2: 内 訳 書
A3: =歩掛調書!A3 -> 交野市農業用ため池ハザードマップ作成業務
A5: 工種 | B5: 細 別 | C5: 名 称 | D5: 単位 | E5: 数量 | I5: 単 価 | L5: 金 額 | N5: 摘 要
A6: 直接人件費 | L6: =SUM(L8+L10+L12+L16+L18+L20+L22+L24+L26+L28+L30) -> 0 | N6: ①
L7: =SUM(L9+L11+L13+L17+L19+L21+L23+L25+L27+L29+L31) -> 1945150
B8: =歩掛調書!A6 -> 1. 計画準備 | D8: =歩掛調書!B6 -> 式 | N8: 直接人件費内訳書第1号
F9: =歩掛調書!C6 -> 1 | I9: =歩掛調書!K6 -> 277250 | L9: =F9*I9 -> 277250
B10: =歩掛調書!A7 -> 2. 資料収集及び整理 | D10: =歩掛調書!B7 -> 箇所 | N10: 直接人件費内訳書第1号
F11: 1 | I11: =歩掛調書!K7 -> 61350 | L11: =F11*I11 -> 61350
B12: =歩掛調書!A8 -> 3. 現地調査 | D12: =歩掛調書!B8 -> 箇所 | N12: 直接人件費内訳書第1号
F13: 1 | I13: =歩掛調書!K8 -> 52550 | L13: =F13*I13 -> 52550
B14: =歩掛調書!A9 -> 4. 浸水想定区域の検討 | D14: 式 | N14: 4.1～4.4の合計
F15: 1 | L15: =SUM(L17+L19+L21+L23) -> 485200
B16: =歩掛調書!A10 -> 4.1 氾濫原モデル作成 | D16: =歩掛調書!B10 -> 箇所 | N16: 直接人件費内訳書第1号
F17: 1 | I17: =歩掛調書!K10 -> 144350 | L17: =F17*I17 -> 144350
B18: =歩掛調書!A11 -> 4.2 破堤モデル作成 | D18: =歩掛調書!B11 -> 箇所 | N18: 直接人件費内訳書第1号
F19: 1 | I19: =歩掛調書!K11 -> 80600 | L19: =F19*I19 -> 80600
B20: =歩掛調書!A12 -> 4.3 氾濫シミュレーション | D20: =歩掛調書!B12 -> 箇所 | N20: 直接人件費内訳書第1号
F21: 1 | I21: =歩掛調書!K12 -> 95050 | L21: =F21*I21 -> 95050
B22: =歩掛調書!A13 -> 4.4 浸水想定区域図作成 | D22: =歩掛調書!B13 -> 箇所 | N22: 直接人件費内訳書第1号
F23: 1 | I23: =歩掛調書!K13 -> 165200 | L23: =F23*I23 -> 165200
B24: =歩掛調書!A14 -> 5. ハザードマップ原案作成 | D24: =歩掛調書!B14 -> 箇所 | N24: 直接人件費内訳書第1号
F25: 1 | I25: =歩掛調書!K14 -> 234850 | L25: =F25*I25 -> 234850
B26: =歩掛調書!A15 -> 6. 住民説明会運営支援 | D26: 地区 | N26: 直接人件費内訳書第1号
F27: 1 | I27: =歩掛調書!K15 -> 52550 | L27: =F27*I27 -> 52550
B28: =歩掛調書!A16 -> 7. 報告書作成 | D28: 式 | N28: 直接人件費内訳書第1号
F29: =歩掛調書!C16 -> 1 | I29: =歩掛調書!K16 -> 591950 | L29: =F29*I29 -> 591950
B30: =歩掛調書!A17 -> 8. 打ち合わせ協議 | D30: =歩掛調書!B17 -> 式 | N30: 直接人件費内訳書第1号
F31: =歩掛調書!C17 -> 1 | I31: =歩掛調書!K17 -> 189450 | L31: =F31*I31 -> 189450
A32: 工種 | B32: 細 別 | C32: 名 称 | D32: 単位 | E32: 数量 | I32: 単 価 | L32: 金 額 | N32: 摘 要
A35: 直接経費 | N35: ②
L36: =SUM(L38+L40+L42) -> 276000
B37: 電子成果品作成 | D37: 式 | N37: その他の設計業務
F38: 1 | I38: =ROUNDDOWN((IF((5.1*((L7)/1000)^0.38)*1000>250000,250000,(5.1*((L7)/1000)^0.38)*1000)),-3) -> 90000 | L38: =F38*I38 -> 90000
B39: ハザードマップ印刷費 | D39: 枚 | N39: A3両面カラー
F40: 3000 | I40: 60 | L40: =F40*I40 -> 180000
B41: 旅費交通費 | D41: 式
F42: 1 | I42: 6000 | L42: =F42*I42 -> 6000
A45: 直接原価 | N45: ③＝①+②
...

Sheet 歩掛調書
K1: 第 | L1: 1 | M1: 号表
A2: 直 接 人 件 費 内 訳 書
A3: 交野市農業用ため池ハザードマップ作成業務
A4: 項 目 | B4: 単位 | C4: 数量 | D4: 主任技術者 | E4: 技師長 | F4: 主任技師 | G4: 技師(A) | H4: 技師(B) | I4: 技師(C) | J4: 技術員 | K4: 計 | L4: 小計 | M4: 備考
D5: 90300 | E5: 82800 | F5: 70900 | G5: 62600 | H5: 49300 | I5: 42500 | J5: 36700
A6: 1. 計画準備 | B6: 式 | C6: 1 | F6: 0.5 | G6: 1.5 | H6: 3 | K6: =$F$5*F6+$G$5*G6+$H$5*H6+$I$5*I6+$J$5*J6+$E$5*E6 -> 277250 | L6: =C6*K6 -> 277250
A7: 2. 資料収集及び整理 | B7: 箇所 | C7: 1 | H7: 0.5 | J7: 1 | K7: =$F$5*F7+$G$5*G7+$H$5*H7+$I$5*I7+$J$5*J7+$E$5*E7 -> 61350 | L7: =C7*K7 -> 61350
A8: 3. 現地調査 | B8: 箇所 | C8: 1 | G8: 0.5 | I8: 0.5 | K8: =$F$5*F8+$G$5*G8+$H$5*H8+$I$5*I8+$J$5*J8+$E$5*E8 -> 52550 | L8: =C8*K8 -> 52550
A9: 4. 浸水想定区域の検討 | L9: =C9*K9 -> 0
A10: 4.1 氾濫原モデル作成 | B10: 箇所 | C10: 1 | G10: 0.5 | H10: 1 | I10: 1.5 | K10: =$F$5*F10+$G$5*G10+$H$5*H10+$I$5*I10+$J$5*J10+$E$5*E10 -> 144350 | L10: =C10*K10 -> 144350
A11: 4.2 破堤モデル作成 | B11: 箇所 | C11: 1 | G11: 0.5 | H11: 1 | K11: =$F$5*F11+$G$5*G11+$H$5*H11+$I$5*I11+$J$5*J11+$E$5*E11 -> 80600 | L11: =C11*K11 -> 80600
A12: 4.3 氾濫シミュレーション | B12: 箇所 | C12: 1 | G12: 0.5 | I12: 1.5 | K12: =$F$5*F12+$G$5*G12+$H$5*H12+$I$5*I12+$J$5*J12+$E$5*E12 -> 95050 | L12: =C12*K12 -> 95050
A13: 4.4 浸水想定区域図作成 | B13: 箇所 | C13: 1 | H13: 1 | I13: 1 | J13: 2 | K13: =$F$5*F13+$G$5*G13+$H$5*H13+$I$5*I13+$J$5*J13+$E$5*E13 -> 165200 | L13: =C13*K13 -> 165200
A14: 5. ハザードマップ原案作成 | B14: 箇所 | C14: 1 | F14: 0.5 | G14: 0.5 | H14: 1 | I14: 1.5 | J14: 1.5 | K14: =$F$5*F14+$G$5*G14+$H$5*H14+$I$5*I14+$J$5*J14+$E$5*E14 -> 234850 | L14: =C14*K14 -> 234850
A15: 6. 住民説明会運営支援 | B15: 地区 | C15: 1 | G15: 0.5 | I15: 0.5 | K15: =$F$5*F15+$G$5*G15+$H$5*H15+$I$5*I15+$J$5*J15+$E$5*E15 -> 52550 | L15: =C15*K15 -> 52550
A16: 7. 報告書作成 | B16: 式 | C16: 1 | F16: 1.5 | G16: 2 | H16: 3 | I16: 5 | K16: =$F$5*F16+$G$5*G16+$H$5*H16+$I$5*I16+$J$5*J16+$E$5*E16 -> 591950 | L16: =C16*K16 -> 591950
A17: 8. 打ち合わせ協議 | B17: 式 | C17: 1 | F17: 1 | G17: 1.5 | H17: 0.5 | K17: =$F$5*F17+$G$5*G17+$H$5*H17+$I$5*I17+$J$5*J17+$E$5*E17 -> 189450 | L17: =C17*K17 -> 189450 | M17: 初回、 中間、 納品時 計３回
K18: =$F$5*F18+$G$5*G18+$H$5*H18+$I$5*I18+$J$5*J18+$E$5*E18 -> 0 | L18: =$F$5*G18+$G$5*H18+$H$5*I18+$I$5*J18+$J$5*K18+$E$5*F18 -> 0
K19: =$F$5*F19+$G$5*G19+$H$5*H19+$I$5*I19+$J$5*J19+$E$5*E19 -> 0 | L19: =$F$5*G19+$G$5*H19+$H$5*I19+$I$5*J19+$J$5*K19+$E$5*F19 -> 0
K20: =$F$5*F20+$G$5*G20+$H$5*H20+$I$5*I20+$J$5*J20+$E$5*E20 -> 0 | L20: =$F$5*G20+$G$5*H20+$H$5*I20+$I$5*J20+$J$5*K20+$E$5*F20 -> 0
K22: =$F$5*F22+$G$5*G22+$H$5*H22+$I$5*I22+$J$5*J22+$E$5*E22 -> 0 | L22: =$F$5*G22+$G$5*H22+$H$5*I22+$I$5*J22+$J$5*K22+$E$5*F22 -> 0
A23: 計 | D23: =SUM(D6:D22) -> 0 | E23: =SUM(E6:E22) -> 0 | F23: =SUM(F6:F22) -> 3.5 | G23: =SUM(G6:G22) -> 8 | H23: =SUM(H6:H22) -> 11 | I23: =SUM(I6:I22) -> 11.5 | J23: =SUM(J6:J22) -> 4.5 | K23: =SUM(K6:K22) -> 1945150 | L23: =SUM(L6:L22) -> 1945150
