Workbook
Name X12Y01_13: '[1]13'!$U$24
Name X12Y03_13: '[1]13'!$Z$24
Name X12Y10_13: '[1]13'!$AG$24
Name X33Y02_13: '[1]13'!$Y$45
Name X33Y03_13: '[1]13'!$Z$45
Name X33Y10_13: '[1]13'!$AG$45
Name X34Y02_13: '[1]13'!$Y$46
Name X34Y03_13: '[1]13'!$Z$46
Name X34Y10_13: '[1]13'!$AG$46
Name X35Y02_13: '[1]13'!$Y$47
Name X35Y03_13: '[1]13'!$Z$47
Name X35Y10_13: '[1]13'!$AG$47
Name 自治体名: 設定!$B$1
Name 単位: 設定!$B$3
Name 年度: 設定!$B$2

Sheet 設定
A1: 自治体名 | B1: 交野市
A2: 年度 | B2: 令和６年度
A3: 単位 | B3: （単位：円）
A4: 会計 | B4: 一般会計等

Sheet 有形固定資産の明細
A1: 有形固定資産の明細
A2: ="自治体名："&自治体名 -> 自治体名：交野市
A3: ="年度："&年度 -> 年度：令和６年度
A4: ="会計："&設定!B4 -> 会計：一般会計等 | H4: （単位：円）
A5: 区分 | B5: 前年度末残高_x000D_ (A) | C5: 本年度増加額_x000D_ (B) | D5: 本年度減少額_x000D_ (C) | E5: 本年度末残高 (A)+(B)-(C) (D) | F5: 本年度末_x000D_ 減価償却累計額_x000D_ (E) | G5: 本年度償却額_x000D_ (F) | H5: 差引本年度末残高 (D)-(E) (G)
A6: 事業用資産 | B6: 73969927066 | C6: 13590338841 | D6: 5743330641 | E6: 81816935266 | F6: 26516510790 | G6: 599308510 | H6: 55300424476
A7: 土地 | B7: 38040433662 | C7: 6192402471 | D7: 5743330641 | E7: 38489505492 | F7: - | G7: - | H7: 38489505492
A8: 立木竹 | B8: - | C8: - | D8: - | E8: - | F8: - | G8: - | H8: -
A9: 建物 | B9: 34720031199 | C9: 7301710570 | D9: - | E9: 42021741769 | F9: 26296498246 | G9: 551043628 | H9: 15725243523
A10: 工作物 | B10: 728947705 | C10: 96225800 | D10: - | E10: 825173505 | F10: 220012544 | G10: 48264882 | H10: 605160961
A11: 船舶 | B11: - | C11: - | D11: - | E11: - | F11: - | G11: - | H11: -
A12: 浮標等 | B12: - | C12: - | D12: - | E12: - | F12: - | G12: - | H12: -
A13: 航空機 | B13: - | C13: - | D13: - | E13: - | F13: - | G13: - | H13: -
A14: その他 | B14: - | C14: - | D14: - | E14: - | F14: - | G14: - | H14: -
A15: 建設仮勘定 | B15: 480514500 | C15: - | D15: - | E15: 480514500 | F15: - | G15: - | H15: 480514500
A16: インフラ資産 | B16: 60418963022 | C16: 281956426 | D16: 2674487 | E16: 60698244961 | F16: 47012639708 | G16: 425246734 | H16: 13685605253
A17: 土地 | B17: 7472102979 | C17: 65600071 | D17: 2674487 | E17: 7535028563 | F17: - | G17: - | H17: 7535028563
A18: 建物 | B18: - | C18: - | D18: - | E18: - | F18: - | G18: - | H18: -
A19: 工作物 | B19: 52895367143 | C19: 216356355 | D19: - | E19: 53111723498 | F19: 47012639708 | G19: 425246734 | H19: 6099083790
A20: その他 | B20: - | C20: - | D20: - | E20: - | F20: - | G20: - | H20: -
A21: 建設仮勘定 | B21: 51492900 | C21: - | D21: - | E21: 51492900 | F21: - | G21: - | H21: 51492900
A22: 物品 | B22: 3278270433 | C22: 300111369 | D22: 36996236 | E22: 3541385566 | F22: 3103976941 | G22: 69858223 | H22: 437408625
A23: 合計 | B23: 137667160521 | C23: 14172406636 | D23: 5783001364 | E23: 146056565793 | F23: 76633127439 | G23: 1094413467 | H23: 69423438354

Sheet 有形固定資産に係る行政目的別の明細
A1: 有形固定資産に係る行政目的別の明細
A2: ="自治体名："&自治体名 -> 自治体名：交野市
A3: ="年度："&年度 -> 年度：令和６年度
A4: ="会計："&設定!B4 -> 会計：一般会計等 | I4: =単位 -> （単位：円）
A5: 区分 | B5: 生活インフラ・_x000D_ 国土保全 | C5: 教育 | D5: 福祉 | E5: 環境衛生 | F5: 産業振興 | G5: 消防 | H5: 総務 | I5: 合計
A6: 事業用資産 | B6: 11740175334 | C6: 37100017199 | D6: 2944785289 | E6: 1617728231 | F6: 1150483 | G6: 142934987 | H6: 1753632953 | I6: 55300424476
A7: 土地 | B7: 11498118450 | C7: 22413629084 | D7: 1418057561 | E7: 1614529976 | F7: - | G7: 138242120 | H7: 1406928301 | I7: 38489505492
A8: 立木竹 | B8: - | C8: - | D8: - | E8: - | F8: - | G8: - | H8: - | I8: -
A9: 建物 | B9: 41089896 | C9: 14029176058 | D9: 1369029733 | E9: 1902606 | F9: 1150483 | G9: 2276737 | H9: 280618010 | I9: 15725243523
A10: 工作物 | B10: 200477488 | C10: 181246057 | D10: 155497995 | E10: 1295649 | F10: - | G10: 2416130 | H10: 64227642 | I10: 605160961
A11: 船舶 | B11: - | C11: - | D11: - | E11: - | F11: - | G11: - | H11: - | I11: -
A12: 浮標等 | B12: - | C12: - | D12: - | E12: - | F12: - | G12: - | H12: - | I12: -
A13: 航空機 | B13: - | C13: - | D13: - | E13: - | F13: - | G13: - | H13: - | I13: -
A14: その他 | B14: - | C14: - | D14: - | E14: - | F14: - | G14: - | H14: - | I14: -
A15: 建設仮勘定 | B15: 489500 | C15: 475966000 | D15: 2200000 | E15: - | F15: - | G15: - | H15: 1859000 | I15: 480514500
A16: インフラ資産 | B16: 11696861636 | C16: 991377447 | D16: 21491763 | E16: - | F16: - | G16: 884638161 | H16: 91236246 | I16: 13685605253
A17: 土地 | B17: 6503413890 | C17: 988289421 | D17: 13919005 | E17: - | F17: - | G17: 1 | H17: 29406246 | I17: 7535028563
A18: 建物 | B18: - | C18: - | D18: - | E18: - | F18: - | G18: - | H18: - | I18: -
A19: 工作物 | B19: 5141954846 | C19: 3088026 | D19: 7572758 | E19: - | F19: - | G19: 884638160 | H19: 61830000 | I19: 6099083790
A20: その他 | B20: - | C20: - | D20: - | E20: - | F20: - | G20: - | H20: - | I20: -
A21: 建設仮勘定 | B21: 51492900 | C21: - | D21: - | E21: - | F21: - | G21: - | H21: - | I21: 51492900
A22: 物品 | B22: 839796 | C22: 212148710 | D22: 8734645 | E22: 9430970 | F22: - | G22: 3324956 | H22: 202929548 | I22: 437408625
A23: 合計 | B23: 23437876766 | C23: 38303543356 | D23: 2975011697 | E23: 1627159201 | F23: 1150483 | G23: 1030898104 | H23: 2047798747 | I23: 69423438354

Sheet 投資及び出資金の明細
A1: 投資及び出資金の明細
A2: ="自治体名："&自治体名 -> 自治体名：交野市
A3: ="年度："&年度 -> 年度：令和６年度
A4: ="会計："&設定!B4 -> 会計：一般会計等
A5: 市場価格のあるもの | H5: =単位 -> （単位：円）
A6: 銘柄名 | B6: 株数・口数など_x000D_ (A) | C6: 時価単価_x000D_ (B) | D6: 貸借対照表計上額_x000D_ (A) X (B)_x000D_ (C) | E6: 取得単価_x000D_ (D) | F6: 取得原価_x000D_ (A) X (D)_x000D_ (E) | G6: 評価差額_x000D_ (C) - (E)_x000D_ (F) | H6: (参考)財産に関する_x000D_ 調書記載額
A7: （満期保有目的有価証券） | D7: =B7*C7 -> 0 | F7: =B7*E7 -> 0 | G7: =D7-F7 -> 0 | H7: =F7 -> 0
A8: りそなホールディングス | B8: 398 | C8: 500 | D8: =B8*C8 -> 199000 | F8: =B8*E8 -> 0 | G8: =D8-F8 -> 199000 | H8: =G8 -> 199000
D9: =B9*C9 -> 0 | F9: =B9*E9 -> 0 | G9: =D9-F9 -> 0 | H9: =G9 -> 0
D10: =B10*C10 -> 0 | F10: =B10*E10 -> 0 | G10: =D10-F10 -> 0 | H10: =G10 -> 0
A11: 合計 | B11: =SUM(B7:B10) -> 398 | C11: =SUM(C7:C10) -> 500 | D11: =SUM(D7:D10) -> 199000 | E11: =SUM(E7:E10) -> 0 | F11: =SUM(F7:F10) -> 0 | G11: =SUM(G7:G10) -> 199000 | H11: =SUM(H7:H10) -> 199000
A13: 市場価格のないもののうち連結対象団体に対するもの | J13: =単位 -> （単位：円）
A14: 相手先名 | B14: 出資金額_x000D_ (貸借対照表計上額)_x000D_ (A) | C14: 資産_x000D_ (B) | D14: 負債_x000D_ (C) | E14: 純資産額_x000D_ (B) - (C)_x000D_ (D) | F14: 資本金_x000D_ (E) | G14: 出資割合(%)_x000D_ (A) / (E)_x000D_ (F) | H14: 実質価額_x000D_ (D) X (F)_x000D_ (G) | I14: 投資損失引当金_x000D_ 計上額_x000D_ (H) | J14: (参考)財産に関する_x000D_ 調書記載額
A15: 交野市土地開発公社 | B15: 1000000 | C15: 13437886 | D15: 0 | E15: =C15-D15 -> 0 | F15: 13437886 | G15: =IFERROR(B15/F15,0) -> 0 | H15: =ROUNDDOWN(E15*G15,0) -> 0 | I15: =IF(H15>0,IF(B15*0.7>H15,B15-H15,0),0) -> 0 | J15: =B15 -> 0
E16: =C16-D16 -> 0 | G16: =IFERROR(B16/F16,0) -> 0 | H16: =ROUNDDOWN(E16*G16,0) -> 0 | I16: =IF(H16>0,IF(B16*0.7>H16,B16-H16,0),0) -> 0 | J16: =B16 -> 0
E17: =C17-D17 -> 0 | G17: =IFERROR(B17/F17,0) -> 0 | H17: =ROUNDDOWN(E17*G17,0) -> 0 | I17: =IF(H17>0,IF(B17*0.7>H17,B17-H17,0),0) -> 0 | J17: =B17 -> 0
E18: =C18-D18 -> 0 | G18: =IFERROR(B18/F18,0) -> 0 | H18: =ROUNDDOWN(E18*G18,0) -> 0 | I18: =IF(H18>0,IF(B18*0.7>H18,B18-H18,0),0) -> 0 | J18: =B18 -> 0
E19: =C19-D19 -> 0 | G19: =IFERROR(B19/F19,0) -> 0 | H19: =ROUNDDOWN(E19*G19,0) -> 0 | I19: =IF(H19>0,IF(B19*0.7>H19,B19-H19,0),0) -> 0 | J19: =B19 -> 0
E20: =C20-D20 -> 0 | G20: =IFERROR(B20/F20,0) -> 0 | H20: =ROUNDDOWN(E20*G20,0) -> 0 | I20: =IF(H20>0,IF(B20*0.7>H20,B20-H20,0),0) -> 0 | J20: =B20 -> 0
A21: 合計 | B21: =SUM(B15:B20) -> 0 | C21: =SUM(C15:C20) -> 0 | D21: =SUM(D15:D20) -> 0 | E21: =SUM(E15:E20) -> 0 | F21: =SUM(F15:F20) -> 0 | G21: - | H21: =SUM(H15:H20) -> 0 | I21: =SUM(I15:I20) -> 0 | J21: =SUM(J15:J20) -> 0
A23: 市場価格のないもののうち連結対象団体以外に対するもの | K23: =単位 -> （単位：円）
A24: 相手先名 | B24: 出資金額_x000D_ (A) | C24: 資産_x000D_ (B) | D24: 負債_x000D_ (C) | E24: 純資産額_x000D_ (B) - (C)_x000D_ (D) | F24: 資本金_x000D_ (E) | G24: 出資割合(%)_x000D_ (A) / (E)_x000D_ (F) | H24: 実質価額_x000D_ (D) X (F)_x000D_ (G) | I24: 強制評価減_x000D_ (H) | J24: 貸借対照表計上額_x000D_ (A) - (H)_x000D_ (I) | K24: (参考)財産に関する_x000D_ 調書記載額
A25: 交野市土地開発公社 | B25: 5000000 | C25: 0 | D25: 0 | E25: =C25-D25 -> 0 | F25: =D25-E25 -> 0 | G25: =IFERROR(B25/F25,0) -> 0 | H25: =ROUNDDOWN(E25*G25,0) -> 0 | I25: =IF(H25>0,IF(B25*0.7>H25,B25-H25,0),0) -> 0 | J25: =B25-I25 -> 5000000 | K25: =B25 -> 5000000
A26: 社会福祉法人 交野市社会福祉協議会 | B26: 300000 | C26: 0 | D26: 0 | E26: =C26-D26 -> 0 | F26: =D26-E26 -> 0 | G26: =IFERROR(B26/F26,0) -> 0 | H26: =ROUNDDOWN(E26*G26,0) -> 0 | I26: =IF(H26>0,IF(B26*0.7>H26,B26-H26,0),0) -> 0 | J26: =B26-I26 -> 300000 | K26: =B26 -> 300000
A27: パナソニック交野株式会社 | B27: 2500000 | C27: 0 | D27: 0 | E27: =C27-D27 -> 0 | F27: =D27-E27 -> 0 | G27: =IFERROR(B27/F27,0) -> 0 | H27: =ROUNDDOWN(E27*G27,0) -> 0 | I27: =IF(H27>0,IF(B27*0.7>H27,B27-H27,0),0) -> 0 | J27: =B27-I27 -> 2500000 | K27: =B27 -> 2500000
A28: 大阪湾広域臨海環境整備センター | B28: 200000 | C28: 0 | D28: 0 | E28: =C28-D28 -> 0 | F28: =D28-E28 -> 0 | G28: =IFERROR(B28/F28,0) -> 0 | H28: =ROUNDDOWN(E28*G28,0) -> 0 | I28: =IF(H28>0,IF(B28*0.7>H28,B28-H28,0),0) -> 0 | J28: =B28-I28 -> 200000 | K28: =B28 -> 200000
A29: 公益財団法人 大阪みどりのトラスト協会 | B29: 90000 | C29: 0 | D29: 0 | E29: =C29-D29 -> 0 | F29: =D29-E29 -> 0 | G29: =IFERROR(B29/F29,0) -> 0 | H29: =ROUNDDOWN(E29*G29,0) -> 0 | I29: =IF(H29>0,IF(B29*0.7>H29,B29-H29,0),0) -> 0 | J29: =B29-I29 -> 90000 | K29: =B29 -> 90000
A30: 一般財団法人 大阪府地域福祉推進財団 | B30: 430000 | C30: 0 | D30: 0 | E30: =C30-D30 -> 0 | F30: =D30-E30 -> 0 | G30: =IFERROR(B30/F30,0) -> 0 | H30: =ROUNDDOWN(E30*G30,0) -> 0 | I30: =IF(H30>0,IF(B30*0.7>H30,B30-H30,0),0) -> 0 | J30: =B30-I30 -> 430000 | K30: =B30 -> 430000
A31: 一般財団法人 砂防フロンティア整備推進機構 | B31: 300000 | C31: 0 | D31: 0 | E31: =C31-D31 -> 0 | F31: =D31-E31 -> 0 | G31: =IFERROR(B31/F31,0) -> 0 | H31: =ROUNDDOWN(E31*G31,0) -> 0 | I31: =IF(H31>0,IF(B31*0.7>H31,B31-H31,0),0) -> 0 | J31: =B31-I31 -> 300000 | K31: =B31 -> 300000
A32: 公益財団法人 大阪府暴力追放推進センター | B32: 1230000 | C32: 0 | D32: 0 | E32: =C32-D32 -> 0 | F32: =D32-E32 -> 0 | G32: =IFERROR(B32/F32,0) -> 0 | H32: =ROUNDDOWN(E32*G32,0) -> 0 | I32: =IF(H32>0,IF(B32*0.7>H32,B32-H32,0),0) -> 0 | J32: =B32-I32 -> 1230000 | K32: =B32 -> 1230000
A33: 一般財団法人 アジア・太平洋人権情報センター | B33: 200533 | C33: 0 | D33: 0 | E33: =C33-D33 -> 0 | F33: =D33-E33 -> 0 | G33: =IFERROR(B33/F33,0) -> 0 | H33: =ROUNDDOWN(E33*G33,0) -> 0 | I33: =IF(H33>0,IF(B33*0.7>H33,B33-H33,0),0) -> 0 | J33: =B33-I33 -> 200533 | K33: =B33 -> 200533
A34: 地方公共団体金融機構 | B34: 4000000 | C34: 0 | D34: 0 | E34: =C34-D34 -> 0 | F34: =D34-E34 -> 0 | G34: =IFERROR(B34/F34,0) -> 0 | H34: =ROUNDDOWN(E34*G34,0) -> 0 | I34: =IF(H34>0,IF(B34*0.7>H34,B34-H34,0),0) -> 0 | J34: =B34-I34 -> 4000000 | K34: =B34 -> 4000000
A35: 公益財団法人 大阪人権博物館 | B35: 28815 | C35: 0 | D35: 0 | E35: =C35-D35 -> 0 | F35: =D35-E35 -> 0 | G35: =IFERROR(B35/F35,0) -> 0 | H35: =ROUNDDOWN(E35*G35,0) -> 0 | I35: =IF(H35>0,IF(B35*0.7>H35,B35-H35,0),0) -> 0 | J35: =B35-I35 -> 28815 | K35: =B35 -> 28815
C36: 0 | D36: 0 | E36: =C36-D36 -> 0 | F36: =D36-E36 -> 0 | G36: =IFERROR(B36/F36,0) -> 0 | H36: =ROUNDDOWN(E36*G36,0) -> 0 | I36: =IF(H36>0,IF(B36*0.7>H36,B36-H36,0),0) -> 0 | J36: =B36-I36 -> 0 | K36: =B36 -> 0
E37: =C37-D37 -> 0 | G37: =IFERROR(B37/F37,0) -> 0 | H37: =ROUNDDOWN(E37*G37,0) -> 0 | I37: =IF(H37>0,IF(B37*0.7>H37,B37-H37,0),0) -> 0 | J37: =B37-I37 -> 0 | K37: =B37 -> 0
E38: =C38-D38 -> 0 | G38: =IFERROR(B38/F38,0) -> 0 | H38: =ROUNDDOWN(E38*G38,0) -> 0 | I38: =IF(H38>0,IF(B38*0.7>H38,B38-H38,0),0) -> 0 | J38: =B38-I38 -> 0 | K38: =B38 -> 0
E39: =C39-D39 -> 0 | G39: =IFERROR(B39/F39,0) -> 0 | H39: =ROUNDDOWN(E39*G39,0) -> 0 | I39: =IF(H39>0,IF(B39*0.7>H39,B39-H39,0),0) -> 0 | J39: =B39-I39 -> 0 | K39: =B39 -> 0
E40: =C40-D40 -> 0 | G40: =IFERROR(B40/F40,0) -> 0 | H40: =ROUNDDOWN(E40*G40,0) -> 0 | I40: =IF(H40>0,IF(B40*0.7>H40,B40-H40,0),0) -> 0 | J40: =B40-I40 -> 0 | K40: =B40 -> 0
E41: =C41-D41 -> 0 | G41: =IFERROR(B41/F41,0) -> 0 | H41: =ROUNDDOWN(E41*G41,0) -> 0 | I41: =IF(H41>0,IF(B41*0.7>H41,B41-H41,0),0) -> 0 | J41: =B41-I41 -> 0 | K41: =B41 -> 0
E42: =C42-D42 -> 0 | G42: =IFERROR(B42/F42,0) -> 0 | H42: =ROUNDDOWN(E42*G42,0) -> 0 | I42: =IF(H42>0,IF(B42*0.7>H42,B42-H42,0),0) -> 0 | J42: =B42-I42 -> 0 | K42: =B42 -> 0
...

Sheet 長期延滞債権の明細
A1: 長期延滞債権の明細
A2: ="自治体名："&自治体名 -> 自治体名：交野市
A3: ="年度："&年度 -> 年度：令和６年度
A4: ="会計："&設定!B4 -> 会計：一般会計等 | C4: =単位 -> （単位：円）
A5: 相手先名または種別 | B5: 貸借対照表計上額 | C5: 徴収不能引当金計上額
A6: 【貸付金】
A7: 該当なし
A10: 小計 | B10: =SUM(B7:B9) -> 0 | C10: =SUM(C7:C9) -> 0
A11: 【未収金】
A12: 税等未収金
A13: 市民税(個人) | B13: 16517535 | C13: 2163693
A14: 市民税(法人) | B14: 635275 | C14: 83217
A15: 固定資産税 | B15: 2280609 | C15: 298746
A16: 軽自動車税 | B16: 1065500 | C16: 139574
A17: 都市計画税 | B17: 466432 | C17: 61100
A22: 小計 | B22: 20965351 | C22: 2746330
A23: 合計 | B23: =B10+B22 -> 20965351 | C23: =C10+C22 -> 2746330

Sheet 未収金の明細
A1: 未収金の明細
A2: ="自治体名："&自治体名 -> 自治体名：交野市
A3: ="年度："&年度 -> 年度：令和６年度
A4: ="会計："&設定!B4 -> 会計：一般会計等 | C4: =単位 -> （単位：円）
A5: 相手先名または種別 | B5: 貸借対照表計上額 | C5: 徴収不能引当金計上額
A6: 【貸付金】
A10: 小計 | B10: =SUM(B7:B9) -> 0 | C10: =SUM(C7:C9) -> 0
A11: 【未収金】
A12: 税等未収金 | C12: 0
A13: 市民税(個人) | B13: 20518405 | C13: 672790
A14: 市民税(法人) | B14: 606900 | C14: 19899
A15: 固定資産税 | B15: 6266362 | C15: 205471
A16: 軽自動車税 | B16: 841871 | C16: 27604
A17: 都市計画税 | B17: 1541020 | C17: 50529
A18: その他の未収金
A19: 児童福祉費負担金 | B19: 2067800 | C19: 67801
A20: 教育費負担金 | B20: 770050 | C20: 25250
A21: 保育所使用料 | B21: 421950 | C21: 13836
A22: 教育使用料 | B22: 2800 | C22: 92
A23: 手数料 | B23: 94500 | C23: 3099
A24: 雑入 | B24: 49841118 | C24: 1634273
A25: 小計 | B25: =SUM(B12:B24) -> 82972776 | C25: 23507
A26: 合計 | B26: =B10+B25 -> 82972776 | C26: =C10+C25 -> 23507

Sheet 貸付金の明細
A1: 貸付金の明細
A2: ="自治体名："&自治体名 -> 自治体名：交野市
A3: ="年度："&年度 -> 年度：令和６年度
A4: ="会計："&設定!B4 -> 会計：一般会計等 | F4: =単位 -> （単位：円）
A5: 相手先名または種別 | B5: 長期貸付金 | D5: 短期貸付金 | F5: (参考)_x000D_ 貸付金計
B6: 貸借対照表計上額 | C6: 徴収不能引当金_x000D_ 計上額 | D6: 貸借対照表計上額 | E6: 徴収不能引当金_x000D_ 計上額
A7: 該当なし | B7: 0 | C7: 0 | D7: 0 | E7: 0 | F7: =B7+D7 -> 0
F8: =B8+D8 -> 0
F9: =B9+D9 -> 0
A10: 合計 | B10: =SUM(B7:B9) -> 0 | C10: =SUM(C7:C9) -> 0 | D10: =SUM(D7:D9) -> 0 | E10: =SUM(E7:E9) -> 0 | F10: =SUM(F7:F9) -> 0

Sheet 基金の明細
A1: 基金の明細
A2: ="自治体名："&自治体名 -> 自治体名：交野市
A3: ="年度："&年度 -> 年度：令和６年度
A4: ="会計："&設定!B4 -> 会計：一般会計等 | G4: =単位 -> （単位：円）
A5: 種類 | B5: 現金預金 | C5: 有価証券 | D5: 土地 | E5: その他 | F5: 合計_x000D_ (貸借対照表計上額) | G5: (参考)財産に関する_x000D_ 調書記載額
A6: 財政調整基金 | B6: 769664970 | C6: 3920228401 | F6: =SUM(B6:E6) -> 4689893371 | G6: =F6 -> 4689893371
A7: 公債費管理基金（固定資産） | B7: 143592449 | C7: 731376923 | F7: =SUM(B7:E7) -> 874969372 | G7: =F7 -> 874969372
A8: 社会福祉事業基金 | B8: 35058984 | C8: 178570195 | F8: =SUM(B8:E8) -> 213629179 | G8: =F8 -> 213629179
A9: 地域保全整備基金 | B9: 85730384 | C9: 436661012 | F9: =SUM(B9:E9) -> 522391396 | G9: =F9 -> 522391396
A10: 都市の緑基金 | B10: 66483325 | C10: 338627625 | F10: =SUM(B10:E10) -> 405110950 | G10: =F10 -> 405110950
A11: ふるさと創生桜基金 | B11: 19609364 | C11: 99878764 | F11: =SUM(B11:E11) -> 119488128 | G11: =F11 -> 119488128
A12: 職員退職手当基金 | B12: 6185190 | C12: 31503783 | F12: =SUM(B12:E12) -> 37688973 | G12: =F12 -> 37688973
A13: 第二京阪道路環境監視基金 | B13: 28191520 | C13: 143591304 | F13: =SUM(B13:E13) -> 171782824 | G13: =F13 -> 171782824
A14: 災害対策基金 | B14: 31846169 | C14: 162205972 | F14: =SUM(B14:E14) -> 194052141 | G14: =F14 -> 194052141
A15: 公共施設等整備基金 | B15: 117859613 | C15: 600308731 | F15: =SUM(B15:E15) -> 718168344 | G15: =F15 -> 718168344
A16: 学校教育振興基金 | B16: 4184222 | C16: 21312007 | F16: =SUM(B16:E16) -> 25496229 | G16: =F16 -> 25496229
A17: 生計援助基金 | B17: 9000000 | F17: =SUM(B17:E17) -> 9000000 | G17: =F17 -> 9000000
A18: 奨学基金 | B18: 20086000 | F18: =SUM(B18:E18) -> 20086000 | G18: =F18 -> 20086000
A19: 合計 | B19: =SUM(B6:B18) -> 1337492190 | C19: =SUM(C6:C18) -> 6664264717 | D19: =SUM(D6:D18) -> 0 | E19: =SUM(E6:E18) -> 0 | F19: =SUM(F6:F18) -> 8001756907 | G19: =F19 -> 8001756907

Sheet 地方債等（借入先別）の明細
A1: 地方債等（借入先別）の明細
A2: ="自治体名："&自治体名 -> 自治体名：交野市
A3: ="年度："&年度 -> 年度：令和６年度
A4: ="会計："&設定!B4 -> 会計：一般会計等 | K4: =単位 -> （単位：円）
A5: 種類 | B5: 地方債等残高 | D5: 政府資金 | E5: 地方公共団体_x000D_ 金融機構 | F5: 市中銀行 | G5: その他の_x000D_ 金融機関 | H5: 市場公募債 | K5: その他
C6: うち1年内償還予定 | I6: うち共同発行債 | J6: うち住民公募債
A7: 【通常分】
A8: 一般公共事業 | B8: 1677246116 | C8: 115208099 | D8: 1612413710 | E8: 11100000 | F8: 23226882 | G8: 30505524
A9: 災害復旧 | B9: 8534186 | C9: 2133419 | D9: 8534186
A10: 教育・福祉施設 | B10: 4376852145 | C10: 253694826 | D10: 3480717194 | E10: 527633134 | F10: 151538750 | G10: 44600000 | K10: 172363067
A11: 一般単独事業 | B11: 9958304219 | C11: 337415675 | E11: 7960692512 | F11: 599142842 | G11: 358427710 | K11: 1040041155
A12: その他 | B12: 4317375035 | C12: 475868674 | D12: 146050773 | E12: 68208022 | F12: 1106827800 | G12: 31321766 | H12: 0 | I12: 0 | J12: 2964966674 | K12: 2964966674
A13: 【特別分】
A14: 臨時財政対策債 | B14: 10535764164 | C14: 1079378463 | D14: 3588746869 | E14: 6855298569 | F14: 68570726 | G14: 23148000
A15: 減税補てん債 | B15: 20749404 | C15: 14662546 | D15: 20749404
A16: その他 | B16: 48695049 | C16: 3029766 | D16: 48695049
A17: 合計 | B17: =SUM(B8:B16) -> 30943520318 | C17: =SUM(C8:C16) -> 2281391468 | D17: =SUM(D8:D16) -> 8905907185 | E17: =SUM(E8:E16) -> 15422932237 | F17: =SUM(F8:F16) -> 1949307000 | G17: =SUM(G8:G16) -> 488003000 | H17: =SUM(H8:H16) -> 0 | I17: =SUM(I8:I16) -> 0 | ... K17: =SUM(K8:K16) -> 4177370896

Sheet 地方債等（利率別）の明細
A1: 地方債等（利率別）の明細
A2: ="自治体名："&自治体名 -> 自治体名：交野市
A3: ="年度："&年度 -> 年度：令和６年度
A4: ="会計："&設定!B4 -> 会計：一般会計等 | I4: （単位：円）
A5: 地方債等残高 | B5: 1.5%以下 | C5: 1.5%超_x000D_ 2.0%以下 | D5: 2.0%超_x000D_ 2.5%以下 | E5: 2.5%超_x000D_ 3.0%以下 | F5: 3.0%超_x000D_ 3.5%以下 | G5: 3.5%超_x000D_ 4.0%以下 | H5: 4.0%超 | I5: (参考)_x000D_ 加重平均_x000D_ 利率
A6: 30943520318 | B6: 30480400196 | C6: 462813551 | D6: 306571 | I6: 0.0175

Sheet 地方債等（返済期間別）の明細
A1: 地方債等（返済期間別）の明細
A2: ="自治体名："&自治体名 -> 自治体名：交野市
A3: ="年度："&年度 -> 年度：令和６年度
A4: ="会計："&設定!B4 -> 会計：一般会計等 | J4: （単位：円）
A5: 地方債等残高 | B5: 1年以内 | C5: 1年超_x000D_ 2年以内 | D5: 2年超_x000D_ 3年以内 | E5: 3年超_x000D_ 4年以内 | F5: 4年超_x000D_ 5年以内 | G5: 5年超_x000D_ 10年以内 | H5: 10年超_x000D_ 15年以内 | I5: 15年超_x000D_ 20年以内 | J5: 20年超
A6: 30943520318 | B6: 2302135468 | C6: 2380068529 | D6: 2447970938 | E6: 2598759992 | F6: 2428857673 | G6: 9306800061 | H6: 5268368275 | I6: 2432178459 | J6: 1778380923

Sheet 特定の契約条項が付された地方債等の概要
A1: 特定の契約条項が付された地方債等の概要
A2: ="自治体名："&自治体名 -> 自治体名：交野市
A3: ="年度："&年度 -> 年度：令和６年度
A4: ="会計："&設定!B4 -> 会計：一般会計等 | B4: =単位 -> （単位：円）
A5: 特定の契約条項が_x000D_ 付された地方債等残高 | B5: 契約条項の概要

Sheet 引当金の明細
A1: 引当金の明細
A2: ="自治体名："&自治体名 -> 自治体名：交野市
A3: ="年度："&年度 -> 年度：令和６年度
A4: ="会計："&設定!B4 -> 会計：一般会計等 | F4: =単位 -> （単位：円）
A5: 区分 | B5: 前年度末残高 | C5: 本年度増加額 | D5: 本年度減少額 | F5: 本年度末残高
D6: 目的使用 | E6: その他
A7: 退職手当引当金 | B7: 3972792000 | D7: 254601000 | E7: 121190000 | F7: 3851602000
A8: 賞与等引当金 | B8: 453803643 | D8: 4093982000 | E8: 686720 | F8: 453116923
A9: 損失補償等引当金 | B9: - | D9: - | E9: - | F9: -
A10: 合計 | B10: =SUM(B7:B9) -> 4426595643 | C10: =SUM(C7:C9) -> 0 | D10: =SUM(D7:D9) -> 4348583000 | E10: =SUM(E7:E9) -> 121876720 | F10: =SUM(F7:F9) -> 4304718923

Sheet 補助金等の明細
A1: 補助金等の明細
A2: ="自治体名："&自治体名 -> 自治体名：交野市
A3: ="年度："&年度 -> 年度：令和６年度
A4: ="会計："&設定!B4 -> 会計：一般会計等 | C4: =単位 -> （単位：円）
A5: 区分 | B5: 名称 | C5: 金額
A6: 他団体への公共施設等整備補助金等_x000D_ (所有外資産分) | B6: 私立認定こども園等施設整備補助金（こども） | C6: 201873000
B8: 小計 | C8: 201873000
A9: その他の補助金等 | B9: 大阪府後期高齢者医療広域連合療養給付費負担金（医療） | C9: 892028934
B10: 四條畷市交野市清掃施設組合負担金（環総） | C10: 928816000
B11: 住民税非課税世帯等臨時特別給付金 | C11: 358980000
B12: 私立認定こども園等事業費補助金（こども） | C12: 209689192
B13: 消防指令業務負担金 | C13: 90895089
B14: 北河内4市リサイクル施設組合負担金（環総） | C14: 42094771
B15: その他 | C15: 1273556120
B16: 小計 | C16: 3796060106
A17: 合計 | C17: 3997933106

Sheet 財源の明細
A1: 財源の明細
A2: ="自治体名："&自治体名 -> 自治体名：交野市
A3: ="年度："&年度 -> 年度：令和６年度
A4: ="会計："&設定!B4 -> 会計：一般会計等 | E4: =単位 -> （単位：円）
A5: 会計 | B5: 区分 | C5: 財源の内容 | E5: 金額
A6: 一般会計等 | B6: 税収等 | C6: 市税 | E6: 10528623369
C7: 地方譲与税 | E7: 141258000
C8: 地方消費税交付金 | E8: 1705797000
C9: 地方交付税 | E9: 4987876000
C10: その他 | E10: 1295376151
C11: 小計 | E11: 18658930520
B12: 国県等補助金 | C12: 資本的_x000D_ 補助金 | D12: 国庫支出金 | E12: 1904103000
D13: 都道府県等支出金 | E13: 106547000
D14: 計 | E14: 2010650000
C15: 経常的_x000D_ 補助金 | D15: 国庫支出金 | E15: 865201749048
D16: 都道府県等支出金 | E16: 48413689152
D17: 計 | E17: 9136154382
C18: 小計 | E18: 11146804382
B19: 合計 | E19: 29805734902

Sheet 財源情報の明細
A1: 財源情報の明細
A2: ="自治体名："&自治体名 -> 自治体名：交野市
A3: ="年度："&年度 -> 年度：令和６年度
A4: ="会計："&設定!B4 -> 会計：一般会計等 | F4: =単位 -> （単位：円）
A5: 区分 | B5: 金額 | C5: 内訳
C6: 国県等補助金 | D6: 地方債等 | E6: 税収等 | F6: その他
A8: 純行政コスト | B8: 26432469306 | C8: 9136154382 | D8: 123856000 | E8: =B8-C8-D8 -> 17172458924 | F8: =B8-C8-D8-E8 -> 0
A9: 有形固定資産等の増加 | B9: 8687678779 | C9: 2010650000 | D9: 6925179000 | E9: -248150221 | F9: 0
A10: 貸付金・基金等の増加 | B10: 1042036482 | C10: 0 | D10: 0 | E10: =B10-F10 -> 1734621817 | F10: -692585335
A11: その他 | B11: - | C11: - | D11: - | E11: - | F11: -
A12: 合計 | B12: =B8+B9+B10 -> 36162184567 | C12: 11146804382 | D12: 7049035000 | E12: 18658930520 | F12: =B12-C12-D12-E12 -> -692585335

Sheet 資金の明細
A1: 資金の明細
A2: ="自治体名："&自治体名 -> 自治体名：交野市
A3: ="年度："&年度 -> 年度：令和６年度
A4: ="会計："&設定!B4 -> 会計：一般会計等 | B4: =単位 -> （単位：円）
A5: 種類 | B5: 本年度末残高
A6: 要求払預金 | B6: 793678491
A7: 合計 | B7: =SUM(B6:B6) -> 793678491
